BEGIN:VCALENDAR
VERSION:2.0
PRODID:-//East Tennessee Intergroup of Alcoholics Anonymous - ECPv6.15.20//NONSGML v1.0//EN
CALSCALE:GREGORIAN
METHOD:PUBLISH
X-WR-CALNAME:East Tennessee Intergroup of Alcoholics Anonymous
X-ORIGINAL-URL:https://www.etiaa.org
X-WR-CALDESC:Events for East Tennessee Intergroup of Alcoholics Anonymous
REFRESH-INTERVAL;VALUE=DURATION:PT1H
X-Robots-Tag:noindex
X-PUBLISHED-TTL:PT1H
BEGIN:VTIMEZONE
TZID:America/New_York
BEGIN:DAYLIGHT
TZOFFSETFROM:-0500
TZOFFSETTO:-0400
TZNAME:EDT
DTSTART:20250309T070000
END:DAYLIGHT
BEGIN:STANDARD
TZOFFSETFROM:-0400
TZOFFSETTO:-0500
TZNAME:EST
DTSTART:20251102T060000
END:STANDARD
BEGIN:DAYLIGHT
TZOFFSETFROM:-0500
TZOFFSETTO:-0400
TZNAME:EDT
DTSTART:20260308T070000
END:DAYLIGHT
BEGIN:STANDARD
TZOFFSETFROM:-0400
TZOFFSETTO:-0500
TZNAME:EST
DTSTART:20261101T060000
END:STANDARD
BEGIN:DAYLIGHT
TZOFFSETFROM:-0500
TZOFFSETTO:-0400
TZNAME:EDT
DTSTART:20270314T070000
END:DAYLIGHT
BEGIN:STANDARD
TZOFFSETFROM:-0400
TZOFFSETTO:-0500
TZNAME:EST
DTSTART:20271107T060000
END:STANDARD
END:VTIMEZONE
BEGIN:VEVENT
DTSTART;VALUE=DATE:20260522
DTEND;VALUE=DATE:20260525
DTSTAMP:20260422T133953
CREATED:20260228T004909Z
LAST-MODIFIED:20260228T004909Z
UID:23462-1779408000-1779667199@www.etiaa.org
SUMMARY:Seventh Annual Appalachian Regional Roundup
DESCRIPTION:The Seventh Annual Appalachian Regional Roundup will be held May 22–24\, 2026\, in Kingsport\, Tennessee\, at the MeadowView Conference Resort & Convention Center\, 1901 Meadowview Parkway. \nThis weekend event features speakers from across the country sharing experience\, strength\, and hope in recovery. Fellowship opportunities will be available throughout the weekend. \nPre-registration is $30 before May 13\, 2026\, and $35 at the door. Hotel rooms are available at a group rate through the MeadowView Conference Resort. Additional information\, online registration\, and lodging details are available through the event website. \nAll are welcome. The 7th Tradition will be observed. \nDownload the Flyer
URL:https://www.etiaa.org/events/seventh-annual-appalachian-regional-roundup/
LOCATION:Meadowview Conference Center\, 1901 Meadowview Parkway\, Kingsport\, TN\, 37660
CATEGORIES:Conference,Food and Fellowship,Speaker
ATTACH;FMTTYPE=image/png:https://www.etiaa.org/wp-content/uploads/2026/02/2026-Roundup.png
END:VEVENT
END:VCALENDAR