BEGIN:VCALENDAR
VERSION:2.0
PRODID:-//East Tennessee Intergroup of Alcoholics Anonymous - ECPv6.15.20//NONSGML v1.0//EN
CALSCALE:GREGORIAN
METHOD:PUBLISH
X-ORIGINAL-URL:https://www.etiaa.org
X-WR-CALDESC:Events for East Tennessee Intergroup of Alcoholics Anonymous
REFRESH-INTERVAL;VALUE=DURATION:PT1H
X-Robots-Tag:noindex
X-PUBLISHED-TTL:PT1H
BEGIN:VTIMEZONE
TZID:America/New_York
BEGIN:DAYLIGHT
TZOFFSETFROM:-0500
TZOFFSETTO:-0400
TZNAME:EDT
DTSTART:20250309T070000
END:DAYLIGHT
BEGIN:STANDARD
TZOFFSETFROM:-0400
TZOFFSETTO:-0500
TZNAME:EST
DTSTART:20251102T060000
END:STANDARD
BEGIN:DAYLIGHT
TZOFFSETFROM:-0500
TZOFFSETTO:-0400
TZNAME:EDT
DTSTART:20260308T070000
END:DAYLIGHT
BEGIN:STANDARD
TZOFFSETFROM:-0400
TZOFFSETTO:-0500
TZNAME:EST
DTSTART:20261101T060000
END:STANDARD
BEGIN:DAYLIGHT
TZOFFSETFROM:-0500
TZOFFSETTO:-0400
TZNAME:EDT
DTSTART:20270314T070000
END:DAYLIGHT
BEGIN:STANDARD
TZOFFSETFROM:-0400
TZOFFSETTO:-0500
TZNAME:EST
DTSTART:20271107T060000
END:STANDARD
END:VTIMEZONE
BEGIN:VEVENT
DTSTART;TZID=America/New_York:20260321T120000
DTEND;TZID=America/New_York:20260321T160000
DTSTAMP:20260422T133410
CREATED:20260228T002453Z
LAST-MODIFIED:20260228T002453Z
UID:23440-1774094400-1774108800@www.etiaa.org
SUMMARY:Pre-Conference Report – Area 64
DESCRIPTION:Area 64 will host a Pre-Conference Report presented by the Alternate Delegate\, Char B.\, on Saturday\, March 21\, 2026\, from 12:00–4:00 PM at 121 Limestone Ruritan Rd.\, Limestone\, TN. \nThis event provides an opportunity for members to hear information related to the upcoming General Service Conference and to participate in discussion regarding agenda items and service matters affecting A.A. as a whole. A light lunch will be provided\, and attendees are invited to bring a side or snack to share. \nHosted by Districts 1 (Tentative)\, 2\, and 3.
URL:https://www.etiaa.org/events/pre-conference-report-area-64/
LOCATION:Limestone Ruritan Club\, 121 Limestone Ruritan Rd\, Limestone\, TN\, 37681\, United States
CATEGORIES:Food and Fellowship,GSO
ATTACH;FMTTYPE=image/png:https://www.etiaa.org/wp-content/uploads/2026/02/Pre-ConferenceReport3-21-26Flyer.png
END:VEVENT
END:VCALENDAR