BEGIN:VCALENDAR
VERSION:2.0
PRODID:-//East Tennessee Intergroup of Alcoholics Anonymous - ECPv6.15.20//NONSGML v1.0//EN
CALSCALE:GREGORIAN
METHOD:PUBLISH
X-WR-CALNAME:East Tennessee Intergroup of Alcoholics Anonymous
X-ORIGINAL-URL:https://www.etiaa.org
X-WR-CALDESC:Events for East Tennessee Intergroup of Alcoholics Anonymous
REFRESH-INTERVAL;VALUE=DURATION:PT1H
X-Robots-Tag:noindex
X-PUBLISHED-TTL:PT1H
BEGIN:VTIMEZONE
TZID:America/New_York
BEGIN:DAYLIGHT
TZOFFSETFROM:-0500
TZOFFSETTO:-0400
TZNAME:EDT
DTSTART:20240310T070000
END:DAYLIGHT
BEGIN:STANDARD
TZOFFSETFROM:-0400
TZOFFSETTO:-0500
TZNAME:EST
DTSTART:20241103T060000
END:STANDARD
BEGIN:DAYLIGHT
TZOFFSETFROM:-0500
TZOFFSETTO:-0400
TZNAME:EDT
DTSTART:20250309T070000
END:DAYLIGHT
BEGIN:STANDARD
TZOFFSETFROM:-0400
TZOFFSETTO:-0500
TZNAME:EST
DTSTART:20251102T060000
END:STANDARD
BEGIN:DAYLIGHT
TZOFFSETFROM:-0500
TZOFFSETTO:-0400
TZNAME:EDT
DTSTART:20260308T070000
END:DAYLIGHT
BEGIN:STANDARD
TZOFFSETFROM:-0400
TZOFFSETTO:-0500
TZNAME:EST
DTSTART:20261101T060000
END:STANDARD
END:VTIMEZONE
BEGIN:VEVENT
DTSTART;TZID=America/New_York:20251231T080000
DTEND;TZID=America/New_York:20251231T170000
DTSTAMP:20260422T092437
CREATED:20251130T103812Z
LAST-MODIFIED:20251130T104327Z
UID:23236-1767168000-1767200400@www.etiaa.org
SUMMARY:Girls Gone Sober – New Year's Eve
DESCRIPTION:Join Girls Gone Sober for Christmas Eve and New Year’s Eve meetings\, open to anyone seeking fellowship and recovery support during this time of year. Both meetings will be held at The Prospect Center in Kingsport\, TN. \n\n📅 Christmas Eve – Wednesday\, December 24\n\n💬 Open discussion meeting\n6:30 PM – 7:30 PM\n\n\n📅 New Year’s Eve – Wednesday\, December 31\n\n🕯️ Candlelight meeting\n6:30 PM – 7:30 PM\n\n\n\n📍 The Prospect Center\, 1425 East Center Street\, Kingsport\, TN 37660 \nPlease bring your favorite holiday finger foods. All are welcome.
URL:https://www.etiaa.org/events/girls-gone-sober-new-years-eve/
LOCATION:Prospect Center (Old Mac Bldg)\, 1425 E. Center St.\, Kingsport\, TN\, 37664
CATEGORIES:Food and Fellowship,Meeting
ATTACH;FMTTYPE=image/jpeg:https://www.etiaa.org/wp-content/uploads/2025/11/GGS-Christmas.jpg
END:VEVENT
END:VCALENDAR