BEGIN:VCALENDAR
VERSION:2.0
PRODID:-//East Tennessee Intergroup of Alcoholics Anonymous - ECPv6.15.20//NONSGML v1.0//EN
CALSCALE:GREGORIAN
METHOD:PUBLISH
X-WR-CALNAME:East Tennessee Intergroup of Alcoholics Anonymous
X-ORIGINAL-URL:https://www.etiaa.org
X-WR-CALDESC:Events for East Tennessee Intergroup of Alcoholics Anonymous
REFRESH-INTERVAL;VALUE=DURATION:PT1H
X-Robots-Tag:noindex
X-PUBLISHED-TTL:PT1H
BEGIN:VTIMEZONE
TZID:America/New_York
BEGIN:DAYLIGHT
TZOFFSETFROM:-0500
TZOFFSETTO:-0400
TZNAME:EDT
DTSTART:20250309T070000
END:DAYLIGHT
BEGIN:STANDARD
TZOFFSETFROM:-0400
TZOFFSETTO:-0500
TZNAME:EST
DTSTART:20251102T060000
END:STANDARD
BEGIN:DAYLIGHT
TZOFFSETFROM:-0500
TZOFFSETTO:-0400
TZNAME:EDT
DTSTART:20260308T070000
END:DAYLIGHT
BEGIN:STANDARD
TZOFFSETFROM:-0400
TZOFFSETTO:-0500
TZNAME:EST
DTSTART:20261101T060000
END:STANDARD
BEGIN:DAYLIGHT
TZOFFSETFROM:-0500
TZOFFSETTO:-0400
TZNAME:EDT
DTSTART:20270314T070000
END:DAYLIGHT
BEGIN:STANDARD
TZOFFSETFROM:-0400
TZOFFSETTO:-0500
TZNAME:EST
DTSTART:20271107T060000
END:STANDARD
END:VTIMEZONE
BEGIN:VEVENT
DTSTART;TZID=America/New_York:20260606T120000
DTEND;TZID=America/New_York:20260606T140000
DTSTAMP:20260424T163813
CREATED:20260424T162955Z
LAST-MODIFIED:20260424T172812Z
UID:24022-1780747200-1780754400@www.etiaa.org
SUMMARY:Knoxville Founders Day Celebration
DESCRIPTION:Districts 50/51 will host a Founders’ Day Celebration on Saturday\, June 6 at Tyson Park\, 2351 Kingston Pike\, Knoxville\, TN. \nFellowship and lunch begin at 12:00 PM\, followed by a speaker meeting at 1:00 PM featuring Kristine H. of Maynardville. \nBasket Donations Requested:\nGroups are encouraged to donate a basket for the drawing. Proceeds will go to support the district. \nAttendees are welcome to bring a side dish to share. \nAll are welcome. The 7th Tradition will be observed. \nLocation: Tyson Park\, 2351 Kingston Pike\, Knoxville\, TN \nDownload Flyer
URL:https://www.etiaa.org/events/knoxville-founders-day-celebration/
LOCATION:Tyson Park\, 2351 Kingston Pike\, Knoxville\, United States
CATEGORIES:Food and Fellowship,Fundraiser,Speaker
ATTACH;FMTTYPE=image/png:https://www.etiaa.org/wp-content/uploads/2026/04/Founders-Day-Flyer-Knoxville-TN-2026-1.png
END:VEVENT
END:VCALENDAR